BEGIN:VCALENDAR
VERSION:2.0
PRODID:-//eventon.com NONSGML v1.0//EN
CALSCALE:GREGORIAN
METHOD:PUBLISH
BEGIN:VEVENT
UID:69e76bf87f3c4
DTSTAMP:20260421T122216Z
DTSTART:20260428T170000Z
DTEND:20260428T190000Z
LOCATION:
SUMMARY:Apprenticeship MO Summit
DESCRIPTION:We are excited to invite you to join us at the 2026 annual Appr
 enticeship MO Summit. This year’s theme is “Building Missouri’s Workf
 orce: Strengthening Apprenticeship Excellence.” The Summit will take plac
 e on Tuesday\,  April 28\,  at the State Fair Community College campus and 
 will feature engaging presentations focused on developing[..]\nhttps://appr
 enticely.org/event/apprenticeship-mo-summit/
URL:https://apprenticely.org/event/apprenticeship-mo-summit/
END:VEVENT
END:VCALENDAR