BEGIN:VCALENDAR
VERSION:2.0
PRODID:-//eventon.com NONSGML v1.0//EN
CALSCALE:GREGORIAN
METHOD:PUBLISH
BEGIN:VEVENT
UID:69e6850303cce
DTSTAMP:20260420T195651Z
DTSTART:20260501T170000Z
DTEND:20260501T180000Z
LOCATION:
SUMMARY:Arkansas Children's Apprenticeship Lunch & Learn
DESCRIPTION:During this private event\,  Arkansas Children&#8217;s leadersh
 ip will share their success implementing registered apprenticeships\,  work
 ing with Apprenticely. Lonnie Emard\,  Apprenticely&#8217;s National Appren
 ticeship Director\,  will share what a registered apprenticeship is and how
  this proven model benefits healthcare providers.\nhttps://apprenticely.org
 /event/arkansas-childrens-apprenticeship-lunch-learn/
URL:https://apprenticely.org/event/arkansas-childrens-apprenticeship-lunch-learn/
END:VEVENT
END:VCALENDAR