BEGIN:VCALENDAR
VERSION:2.0
PRODID:-//eventon.com NONSGML v1.0//EN
CALSCALE:GREGORIAN
METHOD:PUBLISH
BEGIN:VEVENT
UID:69e769de70982
DTSTAMP:20260421T121318Z
DTSTART:20260409T170000Z
DTEND:20260409T180000Z
LOCATION:https://us06web.zoom.us/meeting/register/k0Y7SzcJQQWSDO93mOJ8PQ
SUMMARY:Spring Cleaning Your Resume
DESCRIPTION:👀 Your resume might be the reason you’re not getting inter
 views… Most resumes get 6–10 seconds of attention—and small mistake
 s can cost you big opportunities. Join us on April 9th at 12 noon for Sprin
 g Cleaning Your Resume &#8211; a FREE webinar! Our career coaches will help
  you refresh outdated resumes\,  better[..]\nhttps://apprenticely.org/event
 /spring-cleaning-your-resume/var/event_access
URL:https://apprenticely.org/event/spring-cleaning-your-resume/var/event_access
END:VEVENT
END:VCALENDAR